BEGIN:VCALENDAR
VERSION:2.0
PRODID:-//Tukios.com/
BEGIN:VEVENT
UID:a0e56c19-e48e-4fc5-bcd0-c549391d4ae3@www.anthonyfh.com
DTSTAMP:20260421T192457Z
DTSTART:20260425T160000Z
DTEND:20260425T163000Z
SUMMARY:Funeral Service
DESCRIPTION:
URL:https://www.anthonyfh.com/obituaries/richard-crawley
LOCATION:The Chapel in Green 1800 Raber Rd.  Uniontown OH 44685
GEO:40.9622898;-81.4581966
END:VEVENT
END:VCALENDAR