BEGIN:VCALENDAR
VERSION:2.0
PRODID:-//Tukios.com/
BEGIN:VEVENT
UID:31c4163c-e0ad-44f0-9836-ca2ebc5c411b@www.anthonyfh.com
DTSTAMP:20260421T192343Z
DTSTART:20260425T170000Z
DTEND:20260425T173000Z
SUMMARY:Graveside Service
DESCRIPTION:
URL:https://www.anthonyfh.com/obituaries/richard-crawley
LOCATION:East Liberty Cemetery 740 East Turkeyfoot Lake Rd.  Akron OH 
	44319
GEO:40.974046;-81.4972055
END:VEVENT
END:VCALENDAR