BEGIN:VCALENDAR
VERSION:2.0
PRODID:-//Tukios.com/
BEGIN:VEVENT
UID:42eca8b2-d057-481f-81ab-448113e48505@www.anthonyfh.com
DTSTAMP:20260423T191827Z
DTSTART:20260508T210000Z
DTEND:20260508T230000Z
SUMMARY:Calling Hours
DESCRIPTION:
URL:https://www.anthonyfh.com/obituaries/nancy-schlimm
LOCATION:Anthony & Dunn-Quigley Funeral Home - Stow Chapel 3333 Kent Rd.  
	Stow OH 44224
GEO:41.1596378;-81.4412299
END:VEVENT
END:VCALENDAR