BEGIN:VCALENDAR
VERSION:2.0
PRODID:-//Tukios.com/
BEGIN:VEVENT
UID:9f3ae4f9-a37e-4019-8569-b53d4594b0c1@www.anthonyfh.com
DTSTAMP:20260423T191316Z
DTSTART:20260508T230000Z
DTEND:20260509T000000Z
SUMMARY:Memorial Service
DESCRIPTION:
URL:https://www.anthonyfh.com/obituaries/nancy-schlimm
LOCATION:Anthony & Dunn-Quigley Funeral Home - Stow Chapel 3333 Kent Rd.  
	Stow OH 44224
GEO:41.1596378;-81.4412299
END:VEVENT
END:VCALENDAR