BEGIN:VCALENDAR
VERSION:2.0
PRODID:-//Tukios.com/
BEGIN:VEVENT
UID:4f8a096f-061a-47e6-be9d-3df3e2c5e9cf@www.anthonyfh.com
DTSTAMP:20260419T180146Z
DTSTART:20260422T230000Z
DTEND:20260422T233000Z
SUMMARY:Funeral Service
DESCRIPTION:
URL:https://www.anthonyfh.com/obituaries/gunther-reppl
LOCATION:Anthony Funeral Home - Akron Chapel 1990 S. Main St.  Akron OH 
	44301
GEO:41.0328976;-81.528052
END:VEVENT
END:VCALENDAR