BEGIN:VCALENDAR
VERSION:2.0
PRODID:-//Tukios.com/
BEGIN:VEVENT
UID:e54d060d-137b-425e-b8ea-62013586aea5@www.anthonyfh.com
DTSTAMP:20260419T175936Z
DTSTART:20260422T210000Z
DTEND:20260422T230000Z
SUMMARY:Calling Hours
DESCRIPTION:
URL:https://www.anthonyfh.com/obituaries/gunther-reppl
LOCATION:Anthony Funeral Home - Akron Chapel 1990 S. Main St.  Akron OH 
	44301
GEO:41.0328976;-81.528052
END:VEVENT
END:VCALENDAR