BEGIN:VCALENDAR
VERSION:2.0
PRODID:-//Tukios.com/
BEGIN:VEVENT
UID:02e77d02-3923-4c62-b5cf-b21c2b3a51ee@www.anthonyfh.com
DTSTAMP:20260419T232349Z
DTSTART:20260425T180000Z
DTEND:20260425T210000Z
SUMMARY:Reception
DESCRIPTION:
URL:https://www.anthonyfh.com/obituaries/deborah-miller
LOCATION:Anthony Funeral Home - Akron Chapel 1990 S. Main St.  Akron OH 
	44301
GEO:41.0328976;-81.528052
END:VEVENT
END:VCALENDAR