BEGIN:VCALENDAR
VERSION:2.0
PRODID:-//Tukios.com/
BEGIN:VEVENT
UID:c4d59f42-a4e7-4184-afc7-c6610ad2831b@www.anthonyfh.com
DTSTAMP:20260422T223018Z
DTSTART:20260426T210000Z
DTEND:20260426T230000Z
SUMMARY:Calling Hours
DESCRIPTION:
URL:https://www.anthonyfh.com/obituaries/carl-johnson
LOCATION:St. Nicholas Russian Orthodox Church     
GEO:0;0
END:VEVENT
END:VCALENDAR