BEGIN:VCALENDAR
VERSION:2.0
PRODID:-//Tukios.com/
BEGIN:VEVENT
UID:9658b816-a86b-4859-9c28-5668aac508c5@www.anthonyfh.com
DTSTAMP:20260422T223506Z
DTSTART:20260427T151500Z
DTEND:20260427T154500Z
SUMMARY:Graveside Service
DESCRIPTION:
URL:https://www.anthonyfh.com/obituaries/carl-johnson
LOCATION:St. Nicholas Orthodox Cemetery 1616 Krumroy Rd.  Akron OH 44312
GEO:41.014807;-81.466489
END:VEVENT
END:VCALENDAR