BEGIN:VCALENDAR
VERSION:2.0
PRODID:-//Tukios.com/
BEGIN:VEVENT
UID:65d6d8e2-1988-4163-adc3-46efea3b93b8@www.anthonyfh.com
DTSTAMP:20260422T223329Z
DTSTART:20260427T140000Z
DTEND:20260427T143000Z
SUMMARY:Funeral Service
DESCRIPTION:
URL:https://www.anthonyfh.com/obituaries/carl-johnson
LOCATION:St. Nicholas Russian Orthodox Church     
GEO:0;0
END:VEVENT
END:VCALENDAR