BEGIN:VCALENDAR
VERSION:2.0
PRODID:-//Tukios.com/
BEGIN:VEVENT
UID:b27f7ce9-57df-4642-8555-c0d926493b76@www.anthonyfh.com
DTSTAMP:20260422T223049Z
DTSTART:20260426T230000Z
DTEND:20260427T000000Z
SUMMARY:Panachida
DESCRIPTION:
URL:https://www.anthonyfh.com/obituaries/carl-johnson
LOCATION:St. Nicholas Russian Orthodox Church     
GEO:0;0
END:VEVENT
END:VCALENDAR